BEGIN:VCALENDAR
VERSION:2.0
PRODID:-//The Bridge Hub New Brighton - ECPv6.15.20//NONSGML v1.0//EN
CALSCALE:GREGORIAN
METHOD:PUBLISH
X-WR-CALNAME:The Bridge Hub New Brighton
X-ORIGINAL-URL:https://thebridgehub.org.nz
X-WR-CALDESC:Events for The Bridge Hub New Brighton
REFRESH-INTERVAL;VALUE=DURATION:PT1H
X-Robots-Tag:noindex
X-PUBLISHED-TTL:PT1H
BEGIN:VTIMEZONE
TZID:Pacific/Auckland
BEGIN:STANDARD
TZOFFSETFROM:+1300
TZOFFSETTO:+1200
TZNAME:NZST
DTSTART:20250405T140000
END:STANDARD
BEGIN:DAYLIGHT
TZOFFSETFROM:+1200
TZOFFSETTO:+1300
TZNAME:NZDT
DTSTART:20250927T140000
END:DAYLIGHT
BEGIN:STANDARD
TZOFFSETFROM:+1300
TZOFFSETTO:+1200
TZNAME:NZST
DTSTART:20260404T140000
END:STANDARD
BEGIN:DAYLIGHT
TZOFFSETFROM:+1200
TZOFFSETTO:+1300
TZNAME:NZDT
DTSTART:20260926T140000
END:DAYLIGHT
BEGIN:STANDARD
TZOFFSETFROM:+1300
TZOFFSETTO:+1200
TZNAME:NZST
DTSTART:20270403T140000
END:STANDARD
BEGIN:DAYLIGHT
TZOFFSETFROM:+1200
TZOFFSETTO:+1300
TZNAME:NZDT
DTSTART:20270925T140000
END:DAYLIGHT
END:VTIMEZONE
BEGIN:VEVENT
DTSTART;TZID=Pacific/Auckland:20260730T190000
DTEND;TZID=Pacific/Auckland:20260730T210000
DTSTAMP:20260424T033321
CREATED:20260420T214710Z
LAST-MODIFIED:20260422T161437Z
UID:264109-1785438000-1785445200@thebridgehub.org.nz
SUMMARY:Awaken The Flow with Sama
DESCRIPTION:Awaken the Flow – Yoga\, Breath & Sound\nJoin us for a nourishing Thursday evening designed to clear the mind\, open the heart\, and awaken the senses. Ease into a gentle yoga flow\, dig deeper through breathwork\, spark your playfulness with laughing yoga and freeform dance. Connect through a heart-opening cacao ceremony\, and finish with a restorative sound journey to ground and uplift. A beautiful way to reconnect with yourself and unearth clarity and intention.\n$45\nyoginipanda.com/book-now
URL:https://thebridgehub.org.nz/event/awaken-the-flow-with-sama/
LOCATION:Hall\, 51 Bridge street\, Christchurch\, Canterbury\, 8062\, New Zealand
CATEGORIES:bridge hub events
END:VEVENT
END:VCALENDAR