BEGIN:VCALENDAR
VERSION:2.0
PRODID:-//The Bridge Hub New Brighton - ECPv6.15.20//NONSGML v1.0//EN
CALSCALE:GREGORIAN
METHOD:PUBLISH
X-ORIGINAL-URL:https://thebridgehub.org.nz
X-WR-CALDESC:Events for The Bridge Hub New Brighton
REFRESH-INTERVAL;VALUE=DURATION:PT1H
X-Robots-Tag:noindex
X-PUBLISHED-TTL:PT1H
BEGIN:VTIMEZONE
TZID:Pacific/Auckland
BEGIN:STANDARD
TZOFFSETFROM:+1300
TZOFFSETTO:+1200
TZNAME:NZST
DTSTART:20250405T140000
END:STANDARD
BEGIN:DAYLIGHT
TZOFFSETFROM:+1200
TZOFFSETTO:+1300
TZNAME:NZDT
DTSTART:20250927T140000
END:DAYLIGHT
BEGIN:STANDARD
TZOFFSETFROM:+1300
TZOFFSETTO:+1200
TZNAME:NZST
DTSTART:20260404T140000
END:STANDARD
BEGIN:DAYLIGHT
TZOFFSETFROM:+1200
TZOFFSETTO:+1300
TZNAME:NZDT
DTSTART:20260926T140000
END:DAYLIGHT
BEGIN:STANDARD
TZOFFSETFROM:+1300
TZOFFSETTO:+1200
TZNAME:NZST
DTSTART:20270403T140000
END:STANDARD
BEGIN:DAYLIGHT
TZOFFSETFROM:+1200
TZOFFSETTO:+1300
TZNAME:NZDT
DTSTART:20270925T140000
END:DAYLIGHT
END:VTIMEZONE
BEGIN:VEVENT
DTSTART;TZID=Pacific/Auckland:20260611T093000
DTEND;TZID=Pacific/Auckland:20260611T103000
DTSTAMP:20260424T022105
CREATED:20260420T212900Z
LAST-MODIFIED:20260422T161431Z
UID:263589-1781170200-1781173800@thebridgehub.org.nz
SUMMARY:Playful Club
DESCRIPTION:Playful Club is an in-house session for toddlers\, babies and their parents to explore play and movement\, connection and confidence through song\, dance and play. These will be weekly sessions of one hour made up of playfulness and social morning tea.\nThursdays weekly during term time\, 9.30am-10.30am.\nEntry by gold coin koha/donation.\nContact: hello@thebridgehub.org.nz or 0214642180\nCheck out our Facebook & Instagram page for updates:\nhttps://www.facebook.com/thebridgesouthbrighton\nhttps://www.instagram.com/thebridgehubsouthbrighton/
URL:https://thebridgehub.org.nz/event/playful-club-59/
LOCATION:Hall\, 51 Bridge street\, Christchurch\, Canterbury\, 8062\, New Zealand
CATEGORIES:bridge hub events
END:VEVENT
BEGIN:VEVENT
DTSTART;TZID=Pacific/Auckland:20260611T133000
DTEND;TZID=Pacific/Auckland:20260611T143000
DTSTAMP:20260424T022105
CREATED:20260313T211650Z
LAST-MODIFIED:20260422T161431Z
UID:263202-1781184600-1781188200@thebridgehub.org.nz
SUMMARY:Private Booking - Hall
DESCRIPTION:Lilian Exton private booking – Boccia training\nTerm time only\nInvoice monthly – NFP rate applies\nextonlilian33@gmail.com
URL:https://thebridgehub.org.nz/event/private-booking-hall-135/
LOCATION:Hall\, 51 Bridge street\, Christchurch\, Canterbury\, 8062\, New Zealand
CATEGORIES:bridge hub events
END:VEVENT
BEGIN:VEVENT
DTSTART;TZID=Pacific/Auckland:20260611T190000
DTEND;TZID=Pacific/Auckland:20260611T201500
DTSTAMP:20260424T022105
CREATED:20260313T211651Z
LAST-MODIFIED:20260422T161431Z
UID:263203-1781204400-1781208900@thebridgehub.org.nz
SUMMARY:Sacred Sound Journey
DESCRIPTION:Sacred Sound Journey\nJoin us for a deeply meditative and heart-opening evening of sound — a journey into stillness\, resonance\, and connection.\nEach session is a unique tapestry of live soundscapes\, woven with instruments such as crystal and metal singing bowls\, gongs\, chimes\, and gentle percussive tones — creating waves of vibration that reach beyond the physical\, soothing the nervous system and calming the mind.\nA sacred space to rest\, receive\, and simply be.\nSpaces are limited — reserve your spot at www.yoginipanda.com/book-now\nWith love and light\,\nSama ❤️✨
URL:https://thebridgehub.org.nz/event/sacred-sound-journey-4/
LOCATION:Hall\, 51 Bridge street\, Christchurch\, Canterbury\, 8062\, New Zealand
CATEGORIES:bridge hub events
END:VEVENT
END:VCALENDAR