BEGIN:VCALENDAR
VERSION:2.0
PRODID:-//The Bridge Hub New Brighton - ECPv6.15.20//NONSGML v1.0//EN
CALSCALE:GREGORIAN
METHOD:PUBLISH
X-WR-CALNAME:The Bridge Hub New Brighton
X-ORIGINAL-URL:https://thebridgehub.org.nz
X-WR-CALDESC:Events for The Bridge Hub New Brighton
REFRESH-INTERVAL;VALUE=DURATION:PT1H
X-Robots-Tag:noindex
X-PUBLISHED-TTL:PT1H
BEGIN:VTIMEZONE
TZID:Pacific/Auckland
BEGIN:STANDARD
TZOFFSETFROM:+1300
TZOFFSETTO:+1200
TZNAME:NZST
DTSTART:20250405T140000
END:STANDARD
BEGIN:DAYLIGHT
TZOFFSETFROM:+1200
TZOFFSETTO:+1300
TZNAME:NZDT
DTSTART:20250927T140000
END:DAYLIGHT
BEGIN:STANDARD
TZOFFSETFROM:+1300
TZOFFSETTO:+1200
TZNAME:NZST
DTSTART:20260404T140000
END:STANDARD
BEGIN:DAYLIGHT
TZOFFSETFROM:+1200
TZOFFSETTO:+1300
TZNAME:NZDT
DTSTART:20260926T140000
END:DAYLIGHT
BEGIN:STANDARD
TZOFFSETFROM:+1300
TZOFFSETTO:+1200
TZNAME:NZST
DTSTART:20270403T140000
END:STANDARD
BEGIN:DAYLIGHT
TZOFFSETFROM:+1200
TZOFFSETTO:+1300
TZNAME:NZDT
DTSTART:20270925T140000
END:DAYLIGHT
END:VTIMEZONE
BEGIN:VEVENT
DTSTART;TZID=Pacific/Auckland:20260301T090000
DTEND;TZID=Pacific/Auckland:20260301T100000
DTSTAMP:20260423T233816
CREATED:20251130T155935Z
LAST-MODIFIED:20260228T201358Z
UID:261849-1772355600-1772359200@thebridgehub.org.nz
SUMMARY:Your Vital Life - Yoga with Hamish
DESCRIPTION:Hamish Kenworthy teaches a flowing style of yoga that will give you strength and enhance your mobility.  He teaches with philosophical principle to give you clarity and peace in the face of life’s challenges. You will feel energised and inspired by Hamish’s classes. \nJoin him at 9:00 am on Sunday mornings here at the Bridge HubCasual class = $20.  Ten classes = $160. Unlimited pass = $180.
URL:https://thebridgehub.org.nz/event/your-vital-life-yoga-with-hamish-26/
LOCATION:Hall\, 51 Bridge street\, Christchurch\, Canterbury\, 8062\, New Zealand
CATEGORIES:bridge hub events
END:VEVENT
BEGIN:VEVENT
DTSTART;TZID=Pacific/Auckland:20260301T101500
DTEND;TZID=Pacific/Auckland:20260301T111500
DTSTAMP:20260423T233816
CREATED:20251130T155935Z
LAST-MODIFIED:20260228T201358Z
UID:261850-1772360100-1772363700@thebridgehub.org.nz
SUMMARY:Pop Pilates
DESCRIPTION:Pop Pilates is an upbeat workout\, where you can expect to move to the beat of top-rated popular music while completing Pilates-inspired moves.  POP Pilates is a strength and flexibility workout and can be done in bare feet on nothing but a yoga mat. There’s absolutely no equipment needed (other than the mat)\, because all of the resistance work is done using your own bodyweight.​Modifications are provided for nearly all of the moves. There is no jumping around\, no confusing or fast-moving choreography\, and there is plenty of stretching\, which feels just plain good. \nEMpowerEd Training gives you clear direction\, offers options for making each move more or less challenging and gives coaching cues to make sure your form is correct and on point — and most importantly – makes sure you are getting the most you can out of the move.​emily@empowered.nz/ 0210 889 9084https://www.empowered.nz/https://www.facebook.com/poppilateswithemily/
URL:https://thebridgehub.org.nz/event/pop-pilates-147/
LOCATION:Hall\, 51 Bridge street\, Christchurch\, Canterbury\, 8062\, New Zealand
CATEGORIES:bridge hub events
END:VEVENT
BEGIN:VEVENT
DTSTART;TZID=Pacific/Auckland:20260301T184500
DTEND;TZID=Pacific/Auckland:20260301T200000
DTSTAMP:20260423T233816
CREATED:20251201T155912Z
LAST-MODIFIED:20260228T201358Z
UID:261860-1772390700-1772395200@thebridgehub.org.nz
SUMMARY:Tai Chi Beginners Class
DESCRIPTION:TAI CHI – TCQC Integrated Club \nTai Chi\, sometimes referred to as meditation in motion\, is a slow\, gentle\, safe\, enjoyable form of choreographed movement\, which is known for its many health and well-being benefits. \nThe purpose of our weekly classes (in addition to having fun)\, is for members to learn\, and continue to develop\, the practice of a prescribed form of Tai Chi and its complementary art Qigong. \nOur emphasis is on strengthening the external\, internal\, and mental health of participants\, which results from the special type of movement learned in Tai Chi. \nThe chief instructor is Steve Schapel\, who has 18 years’ experience in teaching Tai Chi. For enquiries\, contact him at steve@tcqci.club or 021-640733. \nThe basic cost is $8 per class (first visit free) – or there are a number of discounted subscription options available.
URL:https://thebridgehub.org.nz/event/tai-chi-beginners-class-20/
LOCATION:Hall\, 51 Bridge street\, Christchurch\, Canterbury\, 8062\, New Zealand
CATEGORIES:bridge hub events
END:VEVENT
BEGIN:VEVENT
DTSTART;TZID=Pacific/Auckland:20260302T100000
DTEND;TZID=Pacific/Auckland:20260302T120000
DTSTAMP:20260423T233816
CREATED:20251201T155913Z
LAST-MODIFIED:20260301T201412Z
UID:261861-1772445600-1772452800@thebridgehub.org.nz
SUMMARY:Crafty Corner
DESCRIPTION:A free social craft drop in for crafty minded people to connect. Bring your craft projects\, grab a cuppa and share some craft ideas and skills. Also take part in subsidises workshops to learn new skills. Free Entry. \nMondays Weekly\, 10.00am-12.00pm. \nContact: hello@thebridgehub.org.nz or 0224642180 \nCheck out our Facebook & Instagram page for updates. \nhttps://www.facebook.com/thebridgesouthbrighton \nhttps://www.instagram.com/thebridgehubsouthbrighton/
URL:https://thebridgehub.org.nz/event/crafty-corner-43/
LOCATION:Hall\, 51 Bridge street\, Christchurch\, Canterbury\, 8062\, New Zealand
CATEGORIES:bridge hub events
END:VEVENT
BEGIN:VEVENT
DTSTART;TZID=Pacific/Auckland:20260302T171500
DTEND;TZID=Pacific/Auckland:20260302T181500
DTSTAMP:20260423T233816
CREATED:20251216T164404Z
LAST-MODIFIED:20260301T201412Z
UID:262110-1772471700-1772475300@thebridgehub.org.nz
SUMMARY:Learn Te Reo Māori - Absolute Beginners T1
DESCRIPTION:Entry by KohaAkonga / students are to bring a notebook and penBookings essential: fernw1@outlook.com or 027 654 0463
URL:https://thebridgehub.org.nz/event/learn-te-reo-maori-absolute-beginners-t1-7/
LOCATION:Hall\, 51 Bridge street\, Christchurch\, Canterbury\, 8062\, New Zealand
CATEGORIES:bridge hub events
END:VEVENT
BEGIN:VEVENT
DTSTART;TZID=Pacific/Auckland:20260302T183000
DTEND;TZID=Pacific/Auckland:20260302T193500
DTSTAMP:20260423T233816
CREATED:20251202T155913Z
LAST-MODIFIED:20260301T201413Z
UID:261877-1772476200-1772480100@thebridgehub.org.nz
SUMMARY:Pop Pilates
DESCRIPTION:Pop Pilates is an upbeat workout\, where you can expect to move to the beat of top-rated popular music while completing Pilates-inspired moves.  POP Pilates is a strength and flexibility workout and can be done in bare feet on nothing but a yoga mat. There’s absolutely no equipment needed (other than the mat)\, because all of the resistance work is done using your own bodyweight.​Modifications are provided for nearly all of the moves. There is no jumping around\, no confusing or fast-moving choreography\, and there is plenty of stretching\, which feels just plain good. \nEMpowerEd Training gives you clear direction\, offers options for making each move more or less challenging and gives coaching cues to make sure your form is correct and on point — and most importantly – makes sure you are getting the most you can out of the move.​emily@empowered.nz/ 0210 889 9084https://www.empowered.nz/https://www.facebook.com/poppilateswithemily/
URL:https://thebridgehub.org.nz/event/pop-pilates-95/
LOCATION:Hall\, 51 Bridge street\, Christchurch\, Canterbury\, 8062\, New Zealand
CATEGORIES:bridge hub events
END:VEVENT
BEGIN:VEVENT
DTSTART;TZID=Pacific/Auckland:20260303T173000
DTEND;TZID=Pacific/Auckland:20260303T184500
DTSTAMP:20260423T233816
CREATED:20251210T162930Z
LAST-MODIFIED:20260302T201420Z
UID:262005-1772559000-1772563500@thebridgehub.org.nz
SUMMARY:Restorative Yoga & Yoga Nidra
DESCRIPTION:Restorative yoga is suitable for beginners\, experienced yogis and everybody in between!Restorative yoga is a relaxing yet powerful practice that allows the body to sink deeply into each posture. We will be using props to fully support the body\, allowing time to arrive\, feel and let go into each position. Each class will end with a guided yoga nidra or sleep meditation to allow your mind and body to completely relax. \nCost: $20 drop in\, or $17 per class when paying for 10. \nVisit Seaside Yoga with Rachael’s Facebook page: \nhttps://www.facebook.com/share/1Evh7qNGGe/ \nContact: rachaelwilliamsca@gmail.com
URL:https://thebridgehub.org.nz/event/restorative-yoga-yoga-nidra-28/
LOCATION:Hall\, 51 Bridge street\, Christchurch\, Canterbury\, 8062\, New Zealand
CATEGORIES:bridge hub events
END:VEVENT
BEGIN:VEVENT
DTSTART;TZID=Pacific/Auckland:20260303T184500
DTEND;TZID=Pacific/Auckland:20260303T190000
DTSTAMP:20260423T233816
CREATED:20251210T162930Z
LAST-MODIFIED:20260302T201420Z
UID:262006-1772563500-1772564400@thebridgehub.org.nz
SUMMARY:Private Booking
DESCRIPTION:Yoga pack down – Rachael Williams
URL:https://thebridgehub.org.nz/event/private-booking-8/
LOCATION:Hall\, 51 Bridge street\, Christchurch\, Canterbury\, 8062\, New Zealand
CATEGORIES:bridge hub events
END:VEVENT
BEGIN:VEVENT
DTSTART;TZID=Pacific/Auckland:20260304T171500
DTEND;TZID=Pacific/Auckland:20260304T181500
DTSTAMP:20260423T233816
CREATED:20251216T164404Z
LAST-MODIFIED:20260303T202925Z
UID:262111-1772644500-1772648100@thebridgehub.org.nz
SUMMARY:Learn Te Reo Māori - Beginners with Experience
DESCRIPTION:This level is for those students who have completed the 6 week “Absolute Beginners” course. \nBeginners with Experience are able to tell us about their whānau\, how many siblings and children they have\, where everyone is from\, where they live now and how they’re feeling.  The class will extend on this. \nRegistration essential by emailing fernw1@outlook.comEntry by weekly Koha.
URL:https://thebridgehub.org.nz/event/learn-te-reo-maori-beginners-with-experience-7/
LOCATION:Hall\, 51 Bridge street\, Christchurch\, Canterbury\, 8062\, New Zealand
CATEGORIES:bridge hub events
END:VEVENT
BEGIN:VEVENT
DTSTART;TZID=Pacific/Auckland:20260304T183000
DTEND;TZID=Pacific/Auckland:20260304T193500
DTSTAMP:20260423T233816
CREATED:20251204T155912Z
LAST-MODIFIED:20260303T202925Z
UID:261913-1772649000-1772652900@thebridgehub.org.nz
SUMMARY:Pop Pilates
DESCRIPTION:Pop Pilates is an upbeat workout\, where you can expect to move to the beat of top-rated popular music while completing Pilates-inspired moves.  POP Pilates is a strength and flexibility workout and can be done in bare feet on nothing but a yoga mat. There’s absolutely no equipment needed (other than the mat)\, because all of the resistance work is done using your own bodyweight.​Modifications are provided for nearly all of the moves. There is no jumping around\, no confusing or fast-moving choreography\, and there is plenty of stretching\, which feels just plain good. \nEMpowerEd Training gives you clear direction\, offers options for making each move more or less challenging and gives coaching cues to make sure your form is correct and on point — and most importantly – makes sure you are getting the most you can out of the move.​emily@empowered.nz/ 0210 889 9084https://www.empowered.nz/https://www.facebook.com/poppilateswithemily/
URL:https://thebridgehub.org.nz/event/pop-pilates-104/
LOCATION:Hall\, 51 Bridge street\, Christchurch\, Canterbury\, 8062\, New Zealand
CATEGORIES:bridge hub events
END:VEVENT
BEGIN:VEVENT
DTSTART;TZID=Pacific/Auckland:20260305T093000
DTEND;TZID=Pacific/Auckland:20260305T103000
DTSTAMP:20260423T233816
CREATED:20251204T155912Z
LAST-MODIFIED:20260304T202906Z
UID:261914-1772703000-1772706600@thebridgehub.org.nz
SUMMARY:Playful Club
DESCRIPTION:Playful Club is an in-house session for toddlers\, babies and their parents to explore play and movement\, connection and confidence through song\, dance and play. These will be weekly sessions of one hour made up of playfulness and social morning tea. \nThursdays weekly during term time\, 9.30am-10.30am.Entry by gold coin koha/donation.Contact: hello@thebridgehub.org.nz or 0214642180Check out our Facebook & Instagram page for updates:https://www.facebook.com/thebridgesouthbrightonhttps://www.instagram.com/thebridgehubsouthbrighton/
URL:https://thebridgehub.org.nz/event/playful-club-37/
LOCATION:Hall\, 51 Bridge street\, Christchurch\, Canterbury\, 8062\, New Zealand
CATEGORIES:bridge hub events
END:VEVENT
BEGIN:VEVENT
DTSTART;TZID=Pacific/Auckland:20260305T133000
DTEND;TZID=Pacific/Auckland:20260305T143000
DTSTAMP:20260423T233816
CREATED:20251205T155907Z
LAST-MODIFIED:20260304T202906Z
UID:261926-1772717400-1772721000@thebridgehub.org.nz
SUMMARY:Private Booking - Hall
DESCRIPTION:Lilian Exton private booking – Boccia trainingTerm time onlyInvoice monthly – NFP rate applies
URL:https://thebridgehub.org.nz/event/private-booking-hall-129/
LOCATION:Hall\, 51 Bridge street\, Christchurch\, Canterbury\, 8062\, New Zealand
CATEGORIES:bridge hub events
END:VEVENT
BEGIN:VEVENT
DTSTART;TZID=Pacific/Auckland:20260306T103000
DTEND;TZID=Pacific/Auckland:20260306T114500
DTSTAMP:20260423T233816
CREATED:20251205T155908Z
LAST-MODIFIED:20260305T204431Z
UID:261930-1772793000-1772797500@thebridgehub.org.nz
SUMMARY:Tai Chi Community Class
DESCRIPTION:TAI CHI – TCQC Integrated Club \nTai Chi\, sometimes referred to as meditation in motion\, is a slow\, gentle\, safe\, enjoyable form of choreographed movement\, which is known for its many health and well-being benefits. \nThe purpose of our weekly classes (in addition to having fun)\, is for members to learn\, and continue to develop\, the practice of a prescribed form of Tai Chi and its complementary art Qigong. \nOur emphasis is on strengthening the external\, internal\, and mental health of participants\, which results from the special type of movement learned in Tai Chi. \nThe chief instructor is Steve Schapel\, who has 18 years’ experience in teaching Tai Chi. For enquiries\, contact him at steve@tcqci.club or 021-640733. \nThe basic cost is $8 per class (first visit free) – or there are a number of discounted subscription options available.
URL:https://thebridgehub.org.nz/event/tai-chi-community-class-37/
LOCATION:Hall\, 51 Bridge street\, Christchurch\, Canterbury\, 8062\, New Zealand
CATEGORIES:bridge hub events
END:VEVENT
BEGIN:VEVENT
DTSTART;TZID=Pacific/Auckland:20260307T110000
DTEND;TZID=Pacific/Auckland:20260307T170000
DTSTAMP:20260423T233816
CREATED:20251206T161453Z
LAST-MODIFIED:20260306T204417Z
UID:261948-1772881200-1772902800@thebridgehub.org.nz
SUMMARY:Private Booking - Hall
DESCRIPTION:Yoga Workshops NZIHFContact: sue.finch@nzihf.co.nz022 033 0624Invoice week before. Multiple dates – refer to hire agreement
URL:https://thebridgehub.org.nz/event/private-booking-hall-130/
LOCATION:Hall\, 51 Bridge street\, Christchurch\, Canterbury\, 8062\, New Zealand
CATEGORIES:bridge hub events
END:VEVENT
BEGIN:VEVENT
DTSTART;TZID=Pacific/Auckland:20260307T183000
DTEND;TZID=Pacific/Auckland:20260307T190000
DTSTAMP:20260423T233816
CREATED:20251207T161436Z
LAST-MODIFIED:20260306T204417Z
UID:261954-1772908200-1772910000@thebridgehub.org.nz
SUMMARY:Private Hire - Hall
DESCRIPTION:Ecstatic Dance set up
URL:https://thebridgehub.org.nz/event/private-hire-hall-10/
LOCATION:Hall\, 51 Bridge street\, Christchurch\, Canterbury\, 8062\, New Zealand
CATEGORIES:bridge hub events
END:VEVENT
BEGIN:VEVENT
DTSTART;TZID=Pacific/Auckland:20260308T090000
DTEND;TZID=Pacific/Auckland:20260308T100000
DTSTAMP:20260423T233816
CREATED:20251207T161436Z
LAST-MODIFIED:20260307T204416Z
UID:261955-1772960400-1772964000@thebridgehub.org.nz
SUMMARY:Your Vital Life - Yoga with Hamish
DESCRIPTION:Hamish Kenworthy teaches a flowing style of yoga that will give you strength and enhance your mobility.  He teaches with philosophical principle to give you clarity and peace in the face of life’s challenges. You will feel energised and inspired by Hamish’s classes. \nJoin him at 9:00 am on Sunday mornings here at the Bridge HubCasual class = $20.  Ten classes = $160. Unlimited pass = $180.
URL:https://thebridgehub.org.nz/event/your-vital-life-yoga-with-hamish-27/
LOCATION:Hall\, 51 Bridge street\, Christchurch\, Canterbury\, 8062\, New Zealand
CATEGORIES:bridge hub events
END:VEVENT
BEGIN:VEVENT
DTSTART;TZID=Pacific/Auckland:20260308T101500
DTEND;TZID=Pacific/Auckland:20260308T111500
DTSTAMP:20260423T233816
CREATED:20251207T161436Z
LAST-MODIFIED:20260307T204416Z
UID:261956-1772964900-1772968500@thebridgehub.org.nz
SUMMARY:Pop Pilates
DESCRIPTION:Pop Pilates is an upbeat workout\, where you can expect to move to the beat of top-rated popular music while completing Pilates-inspired moves.  POP Pilates is a strength and flexibility workout and can be done in bare feet on nothing but a yoga mat. There’s absolutely no equipment needed (other than the mat)\, because all of the resistance work is done using your own bodyweight.​Modifications are provided for nearly all of the moves. There is no jumping around\, no confusing or fast-moving choreography\, and there is plenty of stretching\, which feels just plain good. \nEMpowerEd Training gives you clear direction\, offers options for making each move more or less challenging and gives coaching cues to make sure your form is correct and on point — and most importantly – makes sure you are getting the most you can out of the move.​emily@empowered.nz/ 0210 889 9084https://www.empowered.nz/https://www.facebook.com/poppilateswithemily/
URL:https://thebridgehub.org.nz/event/pop-pilates-148/
LOCATION:Hall\, 51 Bridge street\, Christchurch\, Canterbury\, 8062\, New Zealand
CATEGORIES:bridge hub events
END:VEVENT
BEGIN:VEVENT
DTSTART;TZID=Pacific/Auckland:20260308T120000
DTEND;TZID=Pacific/Auckland:20260308T180000
DTSTAMP:20260423T233816
CREATED:20251207T161436Z
LAST-MODIFIED:20260307T204416Z
UID:261957-1772971200-1772992800@thebridgehub.org.nz
SUMMARY:Private Booking - Hall
DESCRIPTION:Yoga Workshops NZIHFContact: sue.finch@nzihf.co.nz022 033 0624Invoice week before. Multiple dates – refer to hire agreement
URL:https://thebridgehub.org.nz/event/private-booking-hall-150/
LOCATION:Hall\, 51 Bridge street\, Christchurch\, Canterbury\, 8062\, New Zealand
CATEGORIES:bridge hub events
END:VEVENT
BEGIN:VEVENT
DTSTART;TZID=Pacific/Auckland:20260308T184500
DTEND;TZID=Pacific/Auckland:20260308T200000
DTSTAMP:20260423T233816
CREATED:20251208T162911Z
LAST-MODIFIED:20260307T204416Z
UID:261968-1772995500-1773000000@thebridgehub.org.nz
SUMMARY:Tai Chi Beginners Class
DESCRIPTION:TAI CHI – TCQC Integrated Club \nTai Chi\, sometimes referred to as meditation in motion\, is a slow\, gentle\, safe\, enjoyable form of choreographed movement\, which is known for its many health and well-being benefits. \nThe purpose of our weekly classes (in addition to having fun)\, is for members to learn\, and continue to develop\, the practice of a prescribed form of Tai Chi and its complementary art Qigong. \nOur emphasis is on strengthening the external\, internal\, and mental health of participants\, which results from the special type of movement learned in Tai Chi. \nThe chief instructor is Steve Schapel\, who has 18 years’ experience in teaching Tai Chi. For enquiries\, contact him at steve@tcqci.club or 021-640733. \nThe basic cost is $8 per class (first visit free) – or there are a number of discounted subscription options available.
URL:https://thebridgehub.org.nz/event/tai-chi-beginners-class-21/
LOCATION:Hall\, 51 Bridge street\, Christchurch\, Canterbury\, 8062\, New Zealand
CATEGORIES:bridge hub events
END:VEVENT
BEGIN:VEVENT
DTSTART;TZID=Pacific/Auckland:20260309T100000
DTEND;TZID=Pacific/Auckland:20260309T120000
DTSTAMP:20260423T233816
CREATED:20251208T162911Z
LAST-MODIFIED:20260308T204419Z
UID:261969-1773050400-1773057600@thebridgehub.org.nz
SUMMARY:Crafty Corner
DESCRIPTION:A free social craft drop in for crafty minded people to connect. Bring your craft projects\, grab a cuppa and share some craft ideas and skills. Also take part in subsidises workshops to learn new skills. Free Entry. \nMondays Weekly\, 10.00am-12.00pm. \nContact: hello@thebridgehub.org.nz or 0224642180 \nCheck out our Facebook & Instagram page for updates. \nhttps://www.facebook.com/thebridgesouthbrighton \nhttps://www.instagram.com/thebridgehubsouthbrighton/
URL:https://thebridgehub.org.nz/event/crafty-corner-44/
LOCATION:Hall\, 51 Bridge street\, Christchurch\, Canterbury\, 8062\, New Zealand
CATEGORIES:bridge hub events
END:VEVENT
BEGIN:VEVENT
DTSTART;TZID=Pacific/Auckland:20260309T133000
DTEND;TZID=Pacific/Auckland:20260309T143000
DTSTAMP:20260423T233816
CREATED:20251209T162923Z
LAST-MODIFIED:20260308T204420Z
UID:261983-1773063000-1773066600@thebridgehub.org.nz
SUMMARY:Private Booking - Hall
DESCRIPTION:Lilian Exton private booking – Boccia trainingTerm time onlyInvoice monthly – NFP rate applies
URL:https://thebridgehub.org.nz/event/private-booking-hall-151/
LOCATION:Hall\, 51 Bridge street\, Christchurch\, Canterbury\, 8062\, New Zealand
CATEGORIES:bridge hub events
END:VEVENT
BEGIN:VEVENT
DTSTART;TZID=Pacific/Auckland:20260309T171500
DTEND;TZID=Pacific/Auckland:20260309T181500
DTSTAMP:20260423T233816
CREATED:20251216T164405Z
LAST-MODIFIED:20260308T204420Z
UID:262113-1773076500-1773080100@thebridgehub.org.nz
SUMMARY:Learn Te Reo Māori - Absolute Beginners T1
DESCRIPTION:Entry by KohaAkonga / students are to bring a notebook and penBookings essential: fernw1@outlook.com or 027 654 0463
URL:https://thebridgehub.org.nz/event/learn-te-reo-maori-absolute-beginners-t1-8/
LOCATION:Hall\, 51 Bridge street\, Christchurch\, Canterbury\, 8062\, New Zealand
CATEGORIES:bridge hub events
END:VEVENT
BEGIN:VEVENT
DTSTART;TZID=Pacific/Auckland:20260309T183000
DTEND;TZID=Pacific/Auckland:20260309T193500
DTSTAMP:20260423T233816
CREATED:20251209T162923Z
LAST-MODIFIED:20260308T204420Z
UID:261984-1773081000-1773084900@thebridgehub.org.nz
SUMMARY:Pop Pilates
DESCRIPTION:Pop Pilates is an upbeat workout\, where you can expect to move to the beat of top-rated popular music while completing Pilates-inspired moves.  POP Pilates is a strength and flexibility workout and can be done in bare feet on nothing but a yoga mat. There’s absolutely no equipment needed (other than the mat)\, because all of the resistance work is done using your own bodyweight.​Modifications are provided for nearly all of the moves. There is no jumping around\, no confusing or fast-moving choreography\, and there is plenty of stretching\, which feels just plain good. \nEMpowerEd Training gives you clear direction\, offers options for making each move more or less challenging and gives coaching cues to make sure your form is correct and on point — and most importantly – makes sure you are getting the most you can out of the move.​emily@empowered.nz/ 0210 889 9084https://www.empowered.nz/https://www.facebook.com/poppilateswithemily/
URL:https://thebridgehub.org.nz/event/pop-pilates-107/
LOCATION:Hall\, 51 Bridge street\, Christchurch\, Canterbury\, 8062\, New Zealand
CATEGORIES:bridge hub events
END:VEVENT
BEGIN:VEVENT
DTSTART;TZID=Pacific/Auckland:20260310T173000
DTEND;TZID=Pacific/Auckland:20260310T184500
DTSTAMP:20260423T233816
CREATED:20251210T162931Z
LAST-MODIFIED:20260309T204436Z
UID:262008-1773163800-1773168300@thebridgehub.org.nz
SUMMARY:Restorative Yoga & Yoga Nidra
DESCRIPTION:Restorative yoga is suitable for beginners\, experienced yogis and everybody in between!Restorative yoga is a relaxing yet powerful practice that allows the body to sink deeply into each posture. We will be using props to fully support the body\, allowing time to arrive\, feel and let go into each position. Each class will end with a guided yoga nidra or sleep meditation to allow your mind and body to completely relax. \nCost: $20 drop in\, or $17 per class when paying for 10. \nVisit Seaside Yoga with Rachael’s Facebook page: \nhttps://www.facebook.com/share/1Evh7qNGGe/ \nContact: rachaelwilliamsca@gmail.com
URL:https://thebridgehub.org.nz/event/restorative-yoga-yoga-nidra-29/
LOCATION:Hall\, 51 Bridge street\, Christchurch\, Canterbury\, 8062\, New Zealand
CATEGORIES:bridge hub events
END:VEVENT
BEGIN:VEVENT
DTSTART;TZID=Pacific/Auckland:20260310T184500
DTEND;TZID=Pacific/Auckland:20260310T190000
DTSTAMP:20260423T233816
CREATED:20251210T162931Z
LAST-MODIFIED:20260309T204436Z
UID:262007-1773168300-1773169200@thebridgehub.org.nz
SUMMARY:Private Booking
DESCRIPTION:Yoga pack down – Rachael Williams
URL:https://thebridgehub.org.nz/event/private-booking-9/
LOCATION:Hall\, 51 Bridge street\, Christchurch\, Canterbury\, 8062\, New Zealand
CATEGORIES:bridge hub events
END:VEVENT
BEGIN:VEVENT
DTSTART;TZID=Pacific/Auckland:20260311T171500
DTEND;TZID=Pacific/Auckland:20260311T181500
DTSTAMP:20260423T233816
CREATED:20251216T164405Z
LAST-MODIFIED:20260310T204416Z
UID:262114-1773249300-1773252900@thebridgehub.org.nz
SUMMARY:Learn Te Reo Māori - Beginners with Experience
DESCRIPTION:This level is for those students who have completed the 6 week “Absolute Beginners” course. \nBeginners with Experience are able to tell us about their whānau\, how many siblings and children they have\, where everyone is from\, where they live now and how they’re feeling.  The class will extend on this. \nRegistration essential by emailing fernw1@outlook.comEntry by weekly Koha.
URL:https://thebridgehub.org.nz/event/learn-te-reo-maori-beginners-with-experience-8/
LOCATION:Hall\, 51 Bridge street\, Christchurch\, Canterbury\, 8062\, New Zealand
CATEGORIES:bridge hub events
END:VEVENT
BEGIN:VEVENT
DTSTART;TZID=Pacific/Auckland:20260311T183000
DTEND;TZID=Pacific/Auckland:20260311T193500
DTSTAMP:20260423T233816
CREATED:20251211T162955Z
LAST-MODIFIED:20260310T204416Z
UID:262026-1773253800-1773257700@thebridgehub.org.nz
SUMMARY:Pop Pilates
DESCRIPTION:Pop Pilates is an upbeat workout\, where you can expect to move to the beat of top-rated popular music while completing Pilates-inspired moves.  POP Pilates is a strength and flexibility workout and can be done in bare feet on nothing but a yoga mat. There’s absolutely no equipment needed (other than the mat)\, because all of the resistance work is done using your own bodyweight.​Modifications are provided for nearly all of the moves. There is no jumping around\, no confusing or fast-moving choreography\, and there is plenty of stretching\, which feels just plain good. \nEMpowerEd Training gives you clear direction\, offers options for making each move more or less challenging and gives coaching cues to make sure your form is correct and on point — and most importantly – makes sure you are getting the most you can out of the move.​emily@empowered.nz/ 0210 889 9084https://www.empowered.nz/https://www.facebook.com/poppilateswithemily/
URL:https://thebridgehub.org.nz/event/pop-pilates-128/
LOCATION:Hall\, 51 Bridge street\, Christchurch\, Canterbury\, 8062\, New Zealand
CATEGORIES:bridge hub events
END:VEVENT
BEGIN:VEVENT
DTSTART;TZID=Pacific/Auckland:20260311T194500
DTEND;TZID=Pacific/Auckland:20260311T204500
DTSTAMP:20260423T233816
CREATED:20260216T194407Z
LAST-MODIFIED:20260310T204416Z
UID:262888-1773258300-1773261900@thebridgehub.org.nz
SUMMARY:Sweat Sesh
DESCRIPTION:Sweat Sesh45-minute circuit style training with TerriGet in\, go hard\, get results!Boost endurance\, burn calories\, build strength\, full body blast!All abilities welcome$15 per personText to book: 022 045 1635
URL:https://thebridgehub.org.nz/event/sweat-sesh-3/
LOCATION:Hall\, 51 Bridge street\, Christchurch\, Canterbury\, 8062\, New Zealand
CATEGORIES:bridge hub events
END:VEVENT
BEGIN:VEVENT
DTSTART;TZID=Pacific/Auckland:20260312T093000
DTEND;TZID=Pacific/Auckland:20260312T103000
DTSTAMP:20260423T233816
CREATED:20251211T162955Z
LAST-MODIFIED:20260311T205921Z
UID:262027-1773307800-1773311400@thebridgehub.org.nz
SUMMARY:Playful Club
DESCRIPTION:Playful Club is an in-house session for toddlers\, babies and their parents to explore play and movement\, connection and confidence through song\, dance and play. These will be weekly sessions of one hour made up of playfulness and social morning tea. \nThursdays weekly during term time\, 9.30am-10.30am.Entry by gold coin koha/donation.Contact: hello@thebridgehub.org.nz or 0214642180Check out our Facebook & Instagram page for updates:https://www.facebook.com/thebridgesouthbrightonhttps://www.instagram.com/thebridgehubsouthbrighton/
URL:https://thebridgehub.org.nz/event/playful-club-39/
LOCATION:Hall\, 51 Bridge street\, Christchurch\, Canterbury\, 8062\, New Zealand
CATEGORIES:bridge hub events
END:VEVENT
BEGIN:VEVENT
DTSTART;TZID=Pacific/Auckland:20260312T133000
DTEND;TZID=Pacific/Auckland:20260312T143000
DTSTAMP:20260423T233816
CREATED:20251212T162923Z
LAST-MODIFIED:20260311T205921Z
UID:262037-1773322200-1773325800@thebridgehub.org.nz
SUMMARY:Private Booking - Hall
DESCRIPTION:Lilian Exton private booking – Boccia trainingTerm time onlyInvoice monthly – NFP rate applies
URL:https://thebridgehub.org.nz/event/private-booking-hall-131/
LOCATION:Hall\, 51 Bridge street\, Christchurch\, Canterbury\, 8062\, New Zealand
CATEGORIES:bridge hub events
END:VEVENT
END:VCALENDAR