BEGIN:VCALENDAR
VERSION:2.0
PRODID:-//The Bridge Hub New Brighton - ECPv6.15.20//NONSGML v1.0//EN
CALSCALE:GREGORIAN
METHOD:PUBLISH
X-WR-CALNAME:The Bridge Hub New Brighton
X-ORIGINAL-URL:https://thebridgehub.org.nz
X-WR-CALDESC:Events for The Bridge Hub New Brighton
REFRESH-INTERVAL;VALUE=DURATION:PT1H
X-Robots-Tag:noindex
X-PUBLISHED-TTL:PT1H
BEGIN:VTIMEZONE
TZID:Pacific/Auckland
BEGIN:STANDARD
TZOFFSETFROM:+1300
TZOFFSETTO:+1200
TZNAME:NZST
DTSTART:20250405T140000
END:STANDARD
BEGIN:DAYLIGHT
TZOFFSETFROM:+1200
TZOFFSETTO:+1300
TZNAME:NZDT
DTSTART:20250927T140000
END:DAYLIGHT
BEGIN:STANDARD
TZOFFSETFROM:+1300
TZOFFSETTO:+1200
TZNAME:NZST
DTSTART:20260404T140000
END:STANDARD
BEGIN:DAYLIGHT
TZOFFSETFROM:+1200
TZOFFSETTO:+1300
TZNAME:NZDT
DTSTART:20260926T140000
END:DAYLIGHT
BEGIN:STANDARD
TZOFFSETFROM:+1300
TZOFFSETTO:+1200
TZNAME:NZST
DTSTART:20270403T140000
END:STANDARD
BEGIN:DAYLIGHT
TZOFFSETFROM:+1200
TZOFFSETTO:+1300
TZNAME:NZDT
DTSTART:20270925T140000
END:DAYLIGHT
END:VTIMEZONE
BEGIN:VEVENT
DTSTART;TZID=Pacific/Auckland:20260919T090000
DTEND;TZID=Pacific/Auckland:20260919T101500
DTSTAMP:20260424T055910
CREATED:20260420T214805Z
LAST-MODIFIED:20260423T161433Z
UID:264184-1789808400-1789812900@thebridgehub.org.nz
SUMMARY:Yoga & Sound Healing
DESCRIPTION:Join Kelsey from Current Wellbeing every third Saturday of the month for 75 minutes of vinyasa yoga and singing bowl relaxation. You can expect a joyful and inviting class rooted in yoga philosophy for all levels.\n-Please bring your own yoga mat.\n-$25 drop in  |  $120 5-class pass  |  $230 10-class pass\nQuestions? Get in touch: kelsey@currentwellbeing.co.nz
URL:https://thebridgehub.org.nz/event/yoga-sound-healing-5/
LOCATION:Hall\, 51 Bridge street\, Christchurch\, Canterbury\, 8062\, New Zealand
CATEGORIES:bridge hub events
END:VEVENT
END:VCALENDAR