BEGIN:VCALENDAR
VERSION:2.0
PRODID:-//The Bridge Hub New Brighton - ECPv6.15.20//NONSGML v1.0//EN
CALSCALE:GREGORIAN
METHOD:PUBLISH
X-WR-CALNAME:The Bridge Hub New Brighton
X-ORIGINAL-URL:https://thebridgehub.org.nz
X-WR-CALDESC:Events for The Bridge Hub New Brighton
REFRESH-INTERVAL;VALUE=DURATION:PT1H
X-Robots-Tag:noindex
X-PUBLISHED-TTL:PT1H
BEGIN:VTIMEZONE
TZID:Pacific/Auckland
BEGIN:STANDARD
TZOFFSETFROM:+1300
TZOFFSETTO:+1200
TZNAME:NZST
DTSTART:20250405T140000
END:STANDARD
BEGIN:DAYLIGHT
TZOFFSETFROM:+1200
TZOFFSETTO:+1300
TZNAME:NZDT
DTSTART:20250927T140000
END:DAYLIGHT
BEGIN:STANDARD
TZOFFSETFROM:+1300
TZOFFSETTO:+1200
TZNAME:NZST
DTSTART:20260404T140000
END:STANDARD
BEGIN:DAYLIGHT
TZOFFSETFROM:+1200
TZOFFSETTO:+1300
TZNAME:NZDT
DTSTART:20260926T140000
END:DAYLIGHT
BEGIN:STANDARD
TZOFFSETFROM:+1300
TZOFFSETTO:+1200
TZNAME:NZST
DTSTART:20270403T140000
END:STANDARD
BEGIN:DAYLIGHT
TZOFFSETFROM:+1200
TZOFFSETTO:+1300
TZNAME:NZDT
DTSTART:20270925T140000
END:DAYLIGHT
END:VTIMEZONE
BEGIN:VEVENT
DTSTART;TZID=Pacific/Auckland:20260524T133000
DTEND;TZID=Pacific/Auckland:20260524T153000
DTSTAMP:20260424T010630
CREATED:20260420T212853Z
LAST-MODIFIED:20260422T161428Z
UID:263551-1779629400-1779636600@thebridgehub.org.nz
SUMMARY:Together in Pink Breast Cancer Fdn NZ
DESCRIPTION:Together in Pink – FUNDRAISER For Breast Cancer Foundation NZ\nTickets available from reception.\nNibbles and refreshments provided. Silent auction for art donated by local artists. Raffle tickets available during the event.
URL:https://thebridgehub.org.nz/event/together-in-pink-breast-cancer-fdn-nz/
LOCATION:Hall\, 51 Bridge street\, Christchurch\, Canterbury\, 8062\, New Zealand
CATEGORIES:bridge hub events
END:VEVENT
END:VCALENDAR