BEGIN:VCALENDAR
VERSION:2.0
PRODID:-//The Bridge Hub New Brighton - ECPv6.15.20//NONSGML v1.0//EN
CALSCALE:GREGORIAN
METHOD:PUBLISH
X-WR-CALNAME:The Bridge Hub New Brighton
X-ORIGINAL-URL:https://thebridgehub.org.nz
X-WR-CALDESC:Events for The Bridge Hub New Brighton
REFRESH-INTERVAL;VALUE=DURATION:PT1H
X-Robots-Tag:noindex
X-PUBLISHED-TTL:PT1H
BEGIN:VTIMEZONE
TZID:Pacific/Auckland
BEGIN:STANDARD
TZOFFSETFROM:+1300
TZOFFSETTO:+1200
TZNAME:NZST
DTSTART:20250405T140000
END:STANDARD
BEGIN:DAYLIGHT
TZOFFSETFROM:+1200
TZOFFSETTO:+1300
TZNAME:NZDT
DTSTART:20250927T140000
END:DAYLIGHT
BEGIN:STANDARD
TZOFFSETFROM:+1300
TZOFFSETTO:+1200
TZNAME:NZST
DTSTART:20260404T140000
END:STANDARD
BEGIN:DAYLIGHT
TZOFFSETFROM:+1200
TZOFFSETTO:+1300
TZNAME:NZDT
DTSTART:20260926T140000
END:DAYLIGHT
BEGIN:STANDARD
TZOFFSETFROM:+1300
TZOFFSETTO:+1200
TZNAME:NZST
DTSTART:20270403T140000
END:STANDARD
BEGIN:DAYLIGHT
TZOFFSETFROM:+1200
TZOFFSETTO:+1300
TZNAME:NZDT
DTSTART:20270925T140000
END:DAYLIGHT
END:VTIMEZONE
BEGIN:VEVENT
DTSTART;TZID=Pacific/Auckland:20260427T194500
DTEND;TZID=Pacific/Auckland:20260427T203000
DTSTAMP:20260422T135522
CREATED:20260420T212844Z
LAST-MODIFIED:20260421T155949Z
UID:263503-1777319100-1777321800@thebridgehub.org.nz
SUMMARY:Sweat Sesh
DESCRIPTION:Sweat Sesh\n45-minute circuit style training with Terri\nGet in\, go hard\, get results!\nBoost endurance\, burn calories\, build strength\, full body blast!\nAll abilities welcome\n$15 per person\nText to book: 022 045 1635
URL:https://thebridgehub.org.nz/event/sweat-sesh-2/
LOCATION:Hall\, 51 Bridge street\, Christchurch\, Canterbury\, 8062\, New Zealand
CATEGORIES:bridge hub events
END:VEVENT
END:VCALENDAR