BEGIN:VCALENDAR
VERSION:2.0
PRODID:-//The Bridge Hub New Brighton - ECPv6.15.20//NONSGML v1.0//EN
CALSCALE:GREGORIAN
METHOD:PUBLISH
X-WR-CALNAME:The Bridge Hub New Brighton
X-ORIGINAL-URL:https://thebridgehub.org.nz
X-WR-CALDESC:Events for The Bridge Hub New Brighton
REFRESH-INTERVAL;VALUE=DURATION:PT1H
X-Robots-Tag:noindex
X-PUBLISHED-TTL:PT1H
BEGIN:VTIMEZONE
TZID:Pacific/Auckland
BEGIN:STANDARD
TZOFFSETFROM:+1300
TZOFFSETTO:+1200
TZNAME:NZST
DTSTART:20250405T140000
END:STANDARD
BEGIN:DAYLIGHT
TZOFFSETFROM:+1200
TZOFFSETTO:+1300
TZNAME:NZDT
DTSTART:20250927T140000
END:DAYLIGHT
BEGIN:STANDARD
TZOFFSETFROM:+1300
TZOFFSETTO:+1200
TZNAME:NZST
DTSTART:20260404T140000
END:STANDARD
BEGIN:DAYLIGHT
TZOFFSETFROM:+1200
TZOFFSETTO:+1300
TZNAME:NZDT
DTSTART:20260926T140000
END:DAYLIGHT
BEGIN:STANDARD
TZOFFSETFROM:+1300
TZOFFSETTO:+1200
TZNAME:NZST
DTSTART:20270403T140000
END:STANDARD
BEGIN:DAYLIGHT
TZOFFSETFROM:+1200
TZOFFSETTO:+1300
TZNAME:NZDT
DTSTART:20270925T140000
END:DAYLIGHT
END:VTIMEZONE
BEGIN:VEVENT
DTSTART;TZID=Pacific/Auckland:20260423T183000
DTEND;TZID=Pacific/Auckland:20260423T210000
DTSTAMP:20260423T201451
CREATED:20260420T212842Z
LAST-MODIFIED:20260422T161422Z
UID:263497-1776969000-1776978000@thebridgehub.org.nz
SUMMARY:Private Booking - Hall
DESCRIPTION:Private Booking – dance class\nHire agreement signed for previous hire 16/4.\nInvoice sent 14/4\nInduction not required – previous hirer
URL:https://thebridgehub.org.nz/event/private-booking-hall-184/
LOCATION:Hall\, 51 Bridge street\, Christchurch\, Canterbury\, 8062\, New Zealand
CATEGORIES:bridge hub events
END:VEVENT
END:VCALENDAR