BEGIN:VCALENDAR
VERSION:2.0
PRODID:-//The Bridge Hub New Brighton - ECPv6.15.20//NONSGML v1.0//EN
CALSCALE:GREGORIAN
METHOD:PUBLISH
X-WR-CALNAME:The Bridge Hub New Brighton
X-ORIGINAL-URL:https://thebridgehub.org.nz
X-WR-CALDESC:Events for The Bridge Hub New Brighton
REFRESH-INTERVAL;VALUE=DURATION:PT1H
X-Robots-Tag:noindex
X-PUBLISHED-TTL:PT1H
BEGIN:VTIMEZONE
TZID:Pacific/Auckland
BEGIN:STANDARD
TZOFFSETFROM:+1300
TZOFFSETTO:+1200
TZNAME:NZST
DTSTART:20250405T140000
END:STANDARD
BEGIN:DAYLIGHT
TZOFFSETFROM:+1200
TZOFFSETTO:+1300
TZNAME:NZDT
DTSTART:20250927T140000
END:DAYLIGHT
BEGIN:STANDARD
TZOFFSETFROM:+1300
TZOFFSETTO:+1200
TZNAME:NZST
DTSTART:20260404T140000
END:STANDARD
BEGIN:DAYLIGHT
TZOFFSETFROM:+1200
TZOFFSETTO:+1300
TZNAME:NZDT
DTSTART:20260926T140000
END:DAYLIGHT
BEGIN:STANDARD
TZOFFSETFROM:+1300
TZOFFSETTO:+1200
TZNAME:NZST
DTSTART:20270403T140000
END:STANDARD
BEGIN:DAYLIGHT
TZOFFSETFROM:+1200
TZOFFSETTO:+1300
TZNAME:NZDT
DTSTART:20270925T140000
END:DAYLIGHT
END:VTIMEZONE
BEGIN:VEVENT
DTSTART;TZID=Pacific/Auckland:20260423T093000
DTEND;TZID=Pacific/Auckland:20260423T103000
DTSTAMP:20260422T015430
CREATED:20260420T212842Z
LAST-MODIFIED:20260420T214445Z
UID:263496-1776936600-1776940200@thebridgehub.org.nz
SUMMARY:Playful Club
DESCRIPTION:Playful Club is an in-house session for toddlers\, babies and their parents to explore play and movement\, connection and confidence through song\, dance and play. These will be weekly sessions of one hour made up of playfulness and social morning tea.\nThursdays weekly during term time\, 9.30am-10.30am.\nEntry by gold coin koha/donation.\nContact: hello@thebridgehub.org.nz or 0214642180\nCheck out our Facebook & Instagram page for updates:\nhttps://www.facebook.com/thebridgesouthbrighton\nhttps://www.instagram.com/thebridgehubsouthbrighton/
URL:https://thebridgehub.org.nz/event/playful-club-52/
LOCATION:Hall\, 51 Bridge street\, Christchurch\, Canterbury\, 8062\, New Zealand
CATEGORIES:bridge hub events
END:VEVENT
END:VCALENDAR